BEGIN:VCALENDAR
VERSION:2.0
PRODID:-//Club del Páncreas - ECPv6.11.2.1//NONSGML v1.0//EN
CALSCALE:GREGORIAN
METHOD:PUBLISH
X-WR-CALNAME:Club del Páncreas
X-ORIGINAL-URL:https://clubdelpancreas.com.ar
X-WR-CALDESC:Eventos para Club del Páncreas
REFRESH-INTERVAL;VALUE=DURATION:PT1H
X-Robots-Tag:noindex
X-PUBLISHED-TTL:PT1H
BEGIN:VTIMEZONE
TZID:America/Argentina/Buenos_Aires
BEGIN:STANDARD
TZOFFSETFROM:-0300
TZOFFSETTO:-0300
TZNAME:-03
DTSTART:20180101T000000
END:STANDARD
END:VTIMEZONE
BEGIN:VEVENT
DTSTART;TZID=America/Argentina/Buenos_Aires:20180512T080000
DTEND;TZID=America/Argentina/Buenos_Aires:20180512T170000
DTSTAMP:20260424T225821
CREATED:20180622T193831Z
LAST-MODIFIED:20180622T195417Z
UID:10000152-1526112000-1526144400@clubdelpancreas.com.ar
SUMMARY:XII Congreso Internacional de Cirugía Bariátrica y Metabólica
DESCRIPTION:Simposio del Club del Páncreas
URL:https://clubdelpancreas.com.ar/evento/xii-congreso-internacional-de-cirugia-bariatrica-y-metabolica/2018-05-12/
LOCATION:Mendoza\, Mendoza\, Argentina
CATEGORIES:Simposio Club del Páncreas
ATTACH;FMTTYPE=image/png:https://clubdelpancreas.com.ar/wp-content/uploads/2018/06/Congreso-de-Internacional-de-Cirugía-Bariátrica-y-Metabólica-2018.png
GEO:-32.8894587;-68.8458386
END:VEVENT
BEGIN:VEVENT
DTSTART;TZID=America/Argentina/Buenos_Aires:20180608T080000
DTEND;TZID=America/Argentina/Buenos_Aires:20180608T170000
DTSTAMP:20260424T225821
CREATED:20180622T200631Z
LAST-MODIFIED:20180622T200828Z
UID:10000155-1528444800-1528477200@clubdelpancreas.com.ar
SUMMARY:31 Congreso de Cirugía de Córdoba
DESCRIPTION:Simposio del Club del Páncreas\n«El Cáncer de Páncreas Avanzado»\n\nCoordinador: Dr. Lucas Granero (Córdoba)\nPanelistas:\nDr. Juan Iovanna (Francia) – Investigador\nDr. Oscar Mazza (CABA) – Cirujano\nDr. Gustavo Kohan (CABA) – Cirujano\nDr. Sergio Olivares Pizarro (España) – Cirujano\nDr. Guillermo Méndez (CABA) – Oncólogo\nDr. Lucio Uranga (CABA) – Cirujano\nDr. Sergio Lucino (Córdoba) – Imagenólogo\nSecretaria: Dra. Natalia Álvarez Rosero (Córdoba)\nLa heterogeneidad del adenocarcinoma pancreático en el fracaso terapéutico – Dr. Juan Iovanna (Francia)\nPresentación y Discusión de casos clínicos
URL:https://clubdelpancreas.com.ar/evento/31-congreso-de-cirugia-de-cordoba/2018-06-08/
LOCATION:CABA
CATEGORIES:Simposio Club del Páncreas
ATTACH;FMTTYPE=image/jpeg:https://clubdelpancreas.com.ar/wp-content/uploads/2018/06/31-Congreso-Cirugia.jpg
END:VEVENT
BEGIN:VEVENT
DTSTART;TZID=America/Argentina/Buenos_Aires:20180929T080000
DTEND;TZID=America/Argentina/Buenos_Aires:20180929T170000
DTSTAMP:20260424T225821
CREATED:20180622T204016Z
LAST-MODIFIED:20180622T204016Z
UID:10000159-1538208000-1538240400@clubdelpancreas.com.ar
SUMMARY:Congreso Argentino de Gastroenterología y Endoscopía Digestiva – GASTRO 2018
DESCRIPTION:Simposio del Club del Páncreas\nProximamente más información…
URL:https://clubdelpancreas.com.ar/evento/congreso-argentino-de-gastroenterologia-y-endoscopia-digestiva-gastro-2018/2018-09-29/
LOCATION:NH Gran Hotel Provincial\, Av. Peralta Ramos 2502\, Mar del Plata\, Buenos Aires\, Argentina
CATEGORIES:Simposio Club del Páncreas
ATTACH;FMTTYPE=image/jpeg:https://clubdelpancreas.com.ar/wp-content/uploads/2018/06/gastro-2018-1.jpg
GEO:-38.0361444;-57.5919818
X-APPLE-STRUCTURED-LOCATION;VALUE=URI;X-ADDRESS=NH Gran Hotel Provincial Av. Peralta Ramos 2502 Mar del Plata Buenos Aires Argentina;X-APPLE-RADIUS=500;X-TITLE=Av. Peralta Ramos 2502:geo:-57.5919818,-38.0361444
END:VEVENT
BEGIN:VEVENT
DTSTART;TZID=America/Argentina/Buenos_Aires:20190627T093000
DTEND;TZID=America/Argentina/Buenos_Aires:20190627T130000
DTSTAMP:20260424T225821
CREATED:20190618T235102Z
LAST-MODIFIED:20190618T235456Z
UID:10000002-1561627800-1561640400@clubdelpancreas.com.ar
SUMMARY:Simposio Conjunto Club del Páncreas Argentina – AAEEH: “Innovación en patología hepato-bilio-pancreática”
DESCRIPTION:Simposio Conjunto Club del Páncreas Argentina – AAEEH: “Innovación en patología hepato-bilio-pancreática”\nJueves 27 de junio de 2019
URL:https://clubdelpancreas.com.ar/evento/simposio-conjunto-club-del-pancreas-argentina-aaeeh-innovacion-en-patologia-hepato-bilio-pancreatica/
LOCATION:Centro de Exposiciones y Convenciones\, Av. Figueroa Alcorta 2099\, CABA\, CABA\, Argentina
CATEGORIES:Simposio Club del Páncreas
ATTACH;FMTTYPE=image/png:https://clubdelpancreas.com.ar/wp-content/uploads/2019/06/Congreso-AAEEH.png
END:VEVENT
BEGIN:VEVENT
DTSTART;TZID=America/Argentina/Buenos_Aires:20190912T083000
DTEND;TZID=America/Argentina/Buenos_Aires:20190912T100000
DTSTAMP:20260424T225821
CREATED:20190510T192555Z
LAST-MODIFIED:20190510T193023Z
UID:10000145-1568277000-1568282400@clubdelpancreas.com.ar
SUMMARY:Simposio del Club del Páncreas 2019
DESCRIPTION:«Congreso Argentino de Gastroenterología y Endoscopía Digestiva – GASTRO 2019»\n«Simposio del Club del Páncreas 2019»\nJueves 12 de septiembre de 2019\n 
URL:https://clubdelpancreas.com.ar/evento/simposio-del-club-del-pancreas-2019/
LOCATION:Hotel InterContinental\, Blvd Perez Cuesta esq. Acceso Este\, Mendoza\, M5521AAR\, Argentina
CATEGORIES:Simposio Club del Páncreas
ATTACH;FMTTYPE=image/jpeg:https://clubdelpancreas.com.ar/wp-content/uploads/2019/05/gastro2019-.jpg
ORGANIZER;CN="Club del P%C3%A1ncreas":MAILTO:info@clubdelpancreas.com.ar
END:VEVENT
END:VCALENDAR