BEGIN:VCALENDAR
VERSION:2.0
PRODID:-//Club del Páncreas - ECPv6.11.2.1//NONSGML v1.0//EN
CALSCALE:GREGORIAN
METHOD:PUBLISH
X-WR-CALNAME:Club del Páncreas
X-ORIGINAL-URL:https://clubdelpancreas.com.ar
X-WR-CALDESC:Eventos para Club del Páncreas
REFRESH-INTERVAL;VALUE=DURATION:PT1H
X-Robots-Tag:noindex
X-PUBLISHED-TTL:PT1H
BEGIN:VTIMEZONE
TZID:America/Argentina/Buenos_Aires
BEGIN:STANDARD
TZOFFSETFROM:-0300
TZOFFSETTO:-0300
TZNAME:-03
DTSTART:20230101T000000
END:STANDARD
END:VTIMEZONE
BEGIN:VEVENT
DTSTART;TZID=America/Argentina/Buenos_Aires:20230421T073000
DTEND;TZID=America/Argentina/Buenos_Aires:20230421T130000
DTSTAMP:20260424T193656
CREATED:20230406T203153Z
LAST-MODIFIED:20230407T153749Z
UID:10000161-1682062200-1682082000@clubdelpancreas.com.ar
SUMMARY:Controversias en Cirugía - Jornada de Actualización
DESCRIPTION:PRESENCIAL Y ONLINE\nHospital Alemán de Buenos Aires\nInvitados: \n\nDr. Claudio Brandi\nDr. Carlos Medan
URL:https://clubdelpancreas.com.ar/evento/controversias-en-cirugia-jornada-de-actualizacion/
LOCATION:Hospital Aleman – Auditorio Roemmers\, Av. Pueyrredón 1640\, CABA\, Argentina
CATEGORIES:Evento Híbrido
ATTACH;FMTTYPE=image/png:https://clubdelpancreas.com.ar/wp-content/uploads/2023/04/Jornada-SCG-HA.png
END:VEVENT
END:VCALENDAR