BEGIN:VCALENDAR
VERSION:2.0
PRODID:-//Club del Páncreas - ECPv6.11.2.1//NONSGML v1.0//EN
CALSCALE:GREGORIAN
METHOD:PUBLISH
X-ORIGINAL-URL:https://clubdelpancreas.com.ar
X-WR-CALDESC:Eventos para Club del Páncreas
REFRESH-INTERVAL;VALUE=DURATION:PT1H
X-Robots-Tag:noindex
X-PUBLISHED-TTL:PT1H
BEGIN:VTIMEZONE
TZID:America/Argentina/Buenos_Aires
BEGIN:STANDARD
TZOFFSETFROM:-0300
TZOFFSETTO:-0300
TZNAME:-03
DTSTART:20190101T000000
END:STANDARD
END:VTIMEZONE
BEGIN:VEVENT
DTSTART;TZID=America/Argentina/Buenos_Aires:20190904T080000
DTEND;TZID=America/Argentina/Buenos_Aires:20190904T190000
DTSTAMP:20260424T223236
CREATED:20190809T021741Z
LAST-MODIFIED:20190813T175002Z
UID:10000004-1567584000-1567623600@clubdelpancreas.com.ar
SUMMARY:2da Jornada del programa de vigilancia de enfermedades pancreáticas
DESCRIPTION:«Cáncer de Páncreas: Un reto para la medicina» \n4 de Septiembre de 2019 de 8:00 a 19:00hs.\n \nSalón de Actos del Hospital Alemán. \n\nJornada multidisciplinaria orientada a médicos especialistas.\nParticipación de Invitados Especiales:\n\nDr. Enrique Domínguez Muñoz\nDra. Teresa Macarulla\n\n\nConferencias y casos clínicos de debate\nActividad no arancelada
URL:https://clubdelpancreas.com.ar/evento/2da-jornada-del-programa-de-vigilancia-de-enfermedades-pancreaticas/
LOCATION:Hospital Alemán – Salón de Actos\, Av. Pueyrredón 1640\, CABA\, Argentina
CATEGORIES:Jornada
ATTACH;FMTTYPE=image/png:https://clubdelpancreas.com.ar/wp-content/uploads/2019/08/hospalemanpancreas.png
ORGANIZER;CN="Hospital Alem%C3%A1n":MAILTO:secretariacirugiageneral@hospitalaleman.com
END:VEVENT
END:VCALENDAR