BEGIN:VCALENDAR
VERSION:2.0
PRODID:-//Club del Páncreas - ECPv6.11.2.1//NONSGML v1.0//EN
CALSCALE:GREGORIAN
METHOD:PUBLISH
X-ORIGINAL-URL:https://clubdelpancreas.com.ar
X-WR-CALDESC:Eventos para Club del Páncreas
REFRESH-INTERVAL;VALUE=DURATION:PT1H
X-Robots-Tag:noindex
X-PUBLISHED-TTL:PT1H
BEGIN:VTIMEZONE
TZID:America/Argentina/Buenos_Aires
BEGIN:STANDARD
TZOFFSETFROM:-0300
TZOFFSETTO:-0300
TZNAME:-03
DTSTART:20190101T000000
END:STANDARD
END:VTIMEZONE
BEGIN:VEVENT
DTSTART;TZID=America/Argentina/Buenos_Aires:20191122T130000
DTEND;TZID=America/Argentina/Buenos_Aires:20191122T170000
DTSTAMP:20260424T233034
CREATED:20191106T234231Z
LAST-MODIFIED:20191106T234231Z
UID:10000024-1574427600-1574442000@clubdelpancreas.com.ar
SUMMARY:Ateneo Factores de riesgo para el cáncer del páncreas
DESCRIPTION:Hospital Italiano. San Justo.
URL:https://clubdelpancreas.com.ar/evento/ateneo-factores-de-riesgo-para-el-cancer-del-pancreas/
LOCATION:Hospital Italiano de San Justo\, Pres. Juan Domingo Perón 2231\, San Justo\, Buenos Aires\, Argentina
CATEGORIES:Eventos
ATTACH;FMTTYPE=image/png:https://clubdelpancreas.com.ar/wp-content/uploads/2019/11/nov-clubpancreas.png
END:VEVENT
END:VCALENDAR