BEGIN:VCALENDAR
VERSION:2.0
PRODID:-//Club del Páncreas - ECPv6.11.2.1//NONSGML v1.0//EN
CALSCALE:GREGORIAN
METHOD:PUBLISH
X-ORIGINAL-URL:https://clubdelpancreas.com.ar
X-WR-CALDESC:Eventos para Club del Páncreas
REFRESH-INTERVAL;VALUE=DURATION:PT1H
X-Robots-Tag:noindex
X-PUBLISHED-TTL:PT1H
BEGIN:VTIMEZONE
TZID:America/Argentina/Buenos_Aires
BEGIN:STANDARD
TZOFFSETFROM:-0300
TZOFFSETTO:-0300
TZNAME:-03
DTSTART:20200101T000000
END:STANDARD
END:VTIMEZONE
BEGIN:VEVENT
DTSTART;TZID=America/Argentina/Buenos_Aires:20200313T083000
DTEND;TZID=America/Argentina/Buenos_Aires:20200313T160000
DTSTAMP:20260424T193658
CREATED:20200304T140244Z
LAST-MODIFIED:20200304T140244Z
UID:10000027-1584088200-1584115200@clubdelpancreas.com.ar
SUMMARY:Nuevos conceptos en el manejo de Patologías Pancreáticas 2020
DESCRIPTION:13 de marzo de 2020\nHospital Zonal de Bariloche
URL:https://clubdelpancreas.com.ar/evento/nuevos-conceptos-en-el-manejo-de-patologias-pancreaticas-2020/
LOCATION:Hospital Zonal de Bariloche\, Av. Moreno 601\, San Carlos de Bariloche\, Río Negro\, Argentina
CATEGORIES:Eventos
ATTACH;FMTTYPE=image/png:https://clubdelpancreas.com.ar/wp-content/uploads/2020/03/Patologías-Pancreáticas-2020.png
ORGANIZER;CN="Club del P%C3%A1ncreas":MAILTO:info@clubdelpancreas.com.ar
END:VEVENT
END:VCALENDAR