BEGIN:VCALENDAR
VERSION:2.0
PRODID:-//Club del Páncreas - ECPv6.11.2.1//NONSGML v1.0//EN
CALSCALE:GREGORIAN
METHOD:PUBLISH
X-ORIGINAL-URL:https://clubdelpancreas.com.ar
X-WR-CALDESC:Eventos para Club del Páncreas
REFRESH-INTERVAL;VALUE=DURATION:PT1H
X-Robots-Tag:noindex
X-PUBLISHED-TTL:PT1H
BEGIN:VTIMEZONE
TZID:America/Argentina/Buenos_Aires
BEGIN:STANDARD
TZOFFSETFROM:-0300
TZOFFSETTO:-0300
TZNAME:-03
DTSTART:20220101T000000
END:STANDARD
END:VTIMEZONE
BEGIN:VEVENT
DTSTART;TZID=America/Argentina/Buenos_Aires:20220812T080000
DTEND;TZID=America/Argentina/Buenos_Aires:20220812T170000
DTSTAMP:20260424T204517
CREATED:20220518T135251Z
LAST-MODIFIED:20220811T231924Z
UID:10000132-1660291200-1660323600@clubdelpancreas.com.ar
SUMMARY:Pancreas Day 2022
DESCRIPTION:PRESENCIAL\nBUENOS AIRES\nHotel Emperador – Av. del Libertador 420 – CABA\n12 de Agosto – 8:00 a 17:00 hs.\nReunión Nacional del Club del Páncreas de la República Argentina. \nTEMA: PANCREATITIS CRÓNICA \nDirectoras: \n\n\n\nDra. Sandra Basso\nDra. Analía Pasqua\n\n\n\nPresidente del Club del Páncreas: \n\n\n\nDr. Lucas Granero\n\n\n\nParticipación del Dr. Enrique De-Madaria (Teleconferencia) \nPROGRAMA CIENTÍFICO: \n\n\n\n8:00 Acreditación\n8:45 INICIO\nPalabras de bienvenida – Dr. Lucas Granero\nPresentación del Pancreas Day – Dras. Analía Pasqua y Sandra Basso\n9:00 – 10:30 Módulo de casos clínicos\nModerador: Dr. Federico Marcaccio\nCasos clínicos: Dra. Jaquelina Gobelet\, Dr. Dante Manazzoni\, Dr. Federico Yañez\nPanelistas: Dr. Mario Acosta Pimentel\, Dr. Claudio Bonini\, Lic. Marisa Canicoba\, Dr. Tomás Lancelotti\, Dra. Laura Marchi\, Dra. Lorena Perna\, Dra. Adriana Primerano\, Dr. Juan Spina\, Dr. Augusto Villaverde\, Dr. David Zagalsky\n\n10:30 – 11:00 Coffee break\n11:00 – 12:30 Aspectos clínicos de la pancreatitis crónica\nModerador: Dr. José Mella\nTeleconferencia magistral: Dr. Enrique De-Madaria\nCaso clínico: Dr. Juan Viscardi\nPanelistas: Dr. Claudio Bonini\, Lic. Marisa Canicoba\, Dra. Silvia Gutiérrez\, Dr. Martín Palavecino\, Dra. Adriana Primerano\, Dr. Juan Spina\, Dra. María Inés Vaccaro\, Dr. Augusto Villaverde\, Dr. David Zagalsky\n12:30 – 13:30 Brunch break\n13:30 – 15:00 Aspectos quirúrgicos de la pancreatitis crónica\nModerador: Dr. Gustavo Kohan\nConferencia magistral: Dr. Oscar Mazza\nCaso clínico: Dr. Lucas Granero\nPanelistas: Dra. Romina Armando\, Dr. Roberto Badra\, Dr. Federico Bucciarelli\, Dr. Eduardo Cassone\, Dr. Federico Della Giustina\, Dr. Diego Haberman\, Dr. Leandro Manzotti\, Dra. Gisele Martini\, Dr. Leandro Pierini\, Dr. Mariano Volpacchio\n15:00 – 15:30 Coffee break\n15:30 – 17:00 Módulo de casos clínicos\nModerador: Dr. Pablo Capitanich\nCasos clínicos: Dr. Javier Crisci\, Dra. Agustina Redondo\, Dr. Hui Jer Hwang\nPanelistas: Dr. Federico Bucciarelli\, Dr. Agustín Cristiano\, Dr. Federico Della Giustina\, Dra. Analía Gubitosi\, Dr. Diego Haberman\,\nDra. Mirta Kujaruk\, Dr. Leandro Manzotti\, Dra. Cristina Nazar\, Dr. Jorge Nefa\, Dr. Lucio Uranga\, Dr. Mariano Volpacchio \n17:00 Reﬂexiones ﬁnales\nDras. Analia Pasqua y Sandra Basso\n\n\n\n\n\n\nAUSPICIADO POR\n\n\nAPOYADO POR
URL:https://clubdelpancreas.com.ar/evento/pancreas-day-2022/
LOCATION:Hotel Emperador\, Av. del Libertador 420\, CABA\, Argentina
CATEGORIES:Pancreas Day
ATTACH;FMTTYPE=image/png:https://clubdelpancreas.com.ar/wp-content/uploads/2022/05/Pancreas-DAY2022.png
END:VEVENT
END:VCALENDAR