BEGIN:VCALENDAR
VERSION:2.0
PRODID:-//Club del Páncreas - ECPv6.11.2.1//NONSGML v1.0//EN
CALSCALE:GREGORIAN
METHOD:PUBLISH
X-WR-CALNAME:Club del Páncreas
X-ORIGINAL-URL:https://clubdelpancreas.com.ar
X-WR-CALDESC:Eventos para Club del Páncreas
REFRESH-INTERVAL;VALUE=DURATION:PT1H
X-Robots-Tag:noindex
X-PUBLISHED-TTL:PT1H
BEGIN:VTIMEZONE
TZID:America/Argentina/Buenos_Aires
BEGIN:STANDARD
TZOFFSETFROM:-0300
TZOFFSETTO:-0300
TZNAME:-03
DTSTART:20180101T000000
END:STANDARD
END:VTIMEZONE
BEGIN:VEVENT
DTSTART;TZID=America/Argentina/Buenos_Aires:20180629T080000
DTEND;TZID=America/Argentina/Buenos_Aires:20180629T180000
DTSTAMP:20260424T204622
CREATED:20180622T201831Z
LAST-MODIFIED:20180629T181129Z
UID:10000156-1530259200-1530295200@clubdelpancreas.com.ar
SUMMARY:Pancreas Day 2018
DESCRIPTION:
URL:https://clubdelpancreas.com.ar/evento/pancreas-day-2018/
LOCATION:Recoleta Gran Hotel\, Av. Gral. Las Heras 1745\, CABA\, Buenos Aires\, C1018AAB\, Argentina
CATEGORIES:Pancreas Day
ATTACH;FMTTYPE=image/jpeg:https://clubdelpancreas.com.ar/wp-content/uploads/2018/06/Páncreas-Day-2018.jpg
ORGANIZER;CN="Club del P%C3%A1ncreas":MAILTO:info@clubdelpancreas.com.ar
GEO:-34.5922183;-58.3911399
X-APPLE-STRUCTURED-LOCATION;VALUE=URI;X-ADDRESS=Recoleta Gran Hotel Av. Gral. Las Heras 1745 CABA Buenos Aires C1018AAB Argentina;X-APPLE-RADIUS=500;X-TITLE=Av. Gral. Las Heras 1745:geo:-58.3911399,-34.5922183
END:VEVENT
END:VCALENDAR