BEGIN:VCALENDAR
VERSION:2.0
PRODID:-//Club del Páncreas - ECPv6.11.2.1//NONSGML v1.0//EN
CALSCALE:GREGORIAN
METHOD:PUBLISH
X-WR-CALNAME:Club del Páncreas
X-ORIGINAL-URL:https://clubdelpancreas.com.ar
X-WR-CALDESC:Eventos para Club del Páncreas
REFRESH-INTERVAL;VALUE=DURATION:PT1H
X-Robots-Tag:noindex
X-PUBLISHED-TTL:PT1H
BEGIN:VTIMEZONE
TZID:America/Argentina/Buenos_Aires
BEGIN:STANDARD
TZOFFSETFROM:-0300
TZOFFSETTO:-0300
TZNAME:-03
DTSTART:20190101T000000
END:STANDARD
END:VTIMEZONE
BEGIN:VEVENT
DTSTART;TZID=America/Argentina/Buenos_Aires:20191128T110000
DTEND;TZID=America/Argentina/Buenos_Aires:20191128T130000
DTSTAMP:20260424T220847
CREATED:20191106T234540Z
LAST-MODIFIED:20191106T234540Z
UID:10000025-1574938800-1574946000@clubdelpancreas.com.ar
SUMMARY:Ateneo Tratamiento del cáncer de páncreas
DESCRIPTION:Sanatorio Juncal. Temperley.
URL:https://clubdelpancreas.com.ar/evento/ateneo-tratamiento-del-cancer-de-pancreas/
LOCATION:Sanatorio Juncal\, Av. Almte. Brown 2779\, Temperley\, Buenos Aires\, Argentina
CATEGORIES:Eventos
ATTACH;FMTTYPE=image/png:https://clubdelpancreas.com.ar/wp-content/uploads/2019/11/nov-clubpancreas.png
END:VEVENT
END:VCALENDAR