BEGIN:VCALENDAR
VERSION:2.0
PRODID:-//Club del Páncreas - ECPv6.11.2.1//NONSGML v1.0//EN
CALSCALE:GREGORIAN
METHOD:PUBLISH
X-WR-CALNAME:Club del Páncreas
X-ORIGINAL-URL:https://clubdelpancreas.com.ar
X-WR-CALDESC:Eventos para Club del Páncreas
REFRESH-INTERVAL;VALUE=DURATION:PT1H
X-Robots-Tag:noindex
X-PUBLISHED-TTL:PT1H
BEGIN:VTIMEZONE
TZID:America/Argentina/Buenos_Aires
BEGIN:STANDARD
TZOFFSETFROM:-0300
TZOFFSETTO:-0300
TZNAME:-03
DTSTART:20210101T000000
END:STANDARD
END:VTIMEZONE
BEGIN:VEVENT
DTSTART;TZID=America/Argentina/Buenos_Aires:20211021T090000
DTEND;TZID=America/Argentina/Buenos_Aires:20211021T123000
DTSTAMP:20260424T223050
CREATED:20211006T220648Z
LAST-MODIFIED:20211006T220648Z
UID:10000130-1634806800-1634819400@clubdelpancreas.com.ar
SUMMARY:a:care Primer Congreso
DESCRIPTION:20 y 21 de Octubre de 2021 de 9:00 a 12:30 hs\nADHERENCIA AL TRATAMIENTO: ¿QUÉ PUEDE HACER CON EL RETO MÉDICO QUE EMPIEZA LUEGO DE LA CONSULTA? \n\nEl Congreso a:care es un evento virtual de primera línea en cómo mejorar la adherencia al tratamiento a través de las ciencias del comportamiento y está diseñado\, específicamente para Profesionales de la Salud. \n\nÚnase a nosotros para escuchar a expertos reconocidos a nivel mundial\, en diversas áreas terapéuticas\, explorar formas para mejorar la adherencia terapéutica.\nAprenda como las intervenciones basadas en el comportamiento y las tecnologías digitales pueden ser aplicadas en la práctica clínica.\nColabore con colegas para discutir los problemas que rodean la adherencia y cuáles la mejor forma de apoyar a los pacientes.\n\nPARA INGRESAR DEBERÁS INSCRIBIRTE \n\n\n\nREALIZADO POR
URL:https://clubdelpancreas.com.ar/evento/acare-primer-congreso/2021-10-21/
CATEGORIES:Congreso Online
ATTACH;FMTTYPE=image/jpeg:https://clubdelpancreas.com.ar/wp-content/uploads/2021/10/acare-congress.jpg
END:VEVENT
END:VCALENDAR