BEGIN:VCALENDAR
VERSION:2.0
PRODID:-//Club del Páncreas - ECPv6.11.2.1//NONSGML v1.0//EN
CALSCALE:GREGORIAN
METHOD:PUBLISH
X-ORIGINAL-URL:https://clubdelpancreas.com.ar
X-WR-CALDESC:Eventos para Club del Páncreas
REFRESH-INTERVAL;VALUE=DURATION:PT1H
X-Robots-Tag:noindex
X-PUBLISHED-TTL:PT1H
BEGIN:VTIMEZONE
TZID:America/Argentina/Buenos_Aires
BEGIN:STANDARD
TZOFFSETFROM:-0300
TZOFFSETTO:-0300
TZNAME:-03
DTSTART:20210101T000000
END:STANDARD
END:VTIMEZONE
BEGIN:VEVENT
DTSTART;TZID=America/Argentina/Buenos_Aires:20210921T200000
DTEND;TZID=America/Argentina/Buenos_Aires:20210921T213000
DTSTAMP:20260424T225930
CREATED:20210916T220358Z
LAST-MODIFIED:20210916T220358Z
UID:10000113-1632254400-1632259800@clubdelpancreas.com.ar
SUMMARY:Masterclass - ¿Qué es la adherencia al tratamiento y cómo pueden ayudarnos las Ciencias del Comportamiento a entenderla?
DESCRIPTION:Fecha: 21 de septiembre 2021\nHora: 8:00 PM\nDuración: 1h 30mins \nConferencistas: \n\nDra. Sheri D. Pruitt\nPsicóloga clínica.\nExdirectora de Integración de la Ciencia Conductual en Kaiser Permanente en Carolina del Norte. Excientífica de la Organización Mundial de la Salud (OMS).\nDra. Sandra Karina Basso\nMédica de la Facultad de Medicina de la Universidad de Buenos Aires.\nEspecialista en Gastroenterología del Ministerio de Salud y Acción Social de la República Argentina y Sociedad Argentina de Gastroenterología. Miembro del Club del Páncreas de la República Argentina. Dedicada a enfermedades pancreáticas.\nDr. Jaime Enrique Manosalvas\nGastroenterólogo – Endoscopista Máster en Gestión Sanitaria para el Desarrollo Local\, Universidad Privada de Loja.\nAutor de trabajos en la especialidad y Book News en Gastroenterología\, Ex médico tratante en el Hospital Naval de Guayaquil. Especialidad en el IMSS\, Centro Médico la Raza\, UNAM\, México. Past presidente de la sociedad Ecuatoriana de Gastroenterología capítulo Guayas. Ex profesor de la cátedra de Gastroenterología en la Universidad Católica de Guayaquil.\nDr. Juan Miguel Abdo Francis\nMédico Cirujano de la Universidad Nacional Autónoma de México.\nEspecialista en Gastroenterología con subespecialidad en Endoscopia Digestiva. Maestría y Doctorado en Alta Dirección. Ex Presidente de las Asociaciones Mexicanas de Gastroenterología (AMG) y de Endoscopia Gastrointestinal (AMEG)\, del Consejo Mexicano de Gastroenterología y de la Academia Mexicana de Cirugía. Past Presidente de la Sociedad Interamericana de Endoscopia Digestiva (SIED). Profesor universitario de Gastroenterología y de Endoscopia Digestiva con Rehabilitación Esofágica
URL:https://clubdelpancreas.com.ar/evento/masterclass-que-es-la-adherencia-al-tratamiento-y-como-pueden-ayudarnos-las-ciencias-del-comportamiento-a-entenderla/
CATEGORIES:Curso Online
ATTACH;FMTTYPE=image/png:https://clubdelpancreas.com.ar/wp-content/uploads/2021/09/ACare-Encabezado.png
END:VEVENT
BEGIN:VEVENT
DTSTART;TZID=America/Argentina/Buenos_Aires:20210701T133000
DTEND;TZID=America/Argentina/Buenos_Aires:20210701T143000
DTSTAMP:20260424T225930
CREATED:20210617T011726Z
LAST-MODIFIED:20210617T012225Z
UID:10000111-1625146200-1625149800@clubdelpancreas.com.ar
SUMMARY:Manejo Actual de la Pancreatitis Aguda - Una colaboración UEG-AEG
DESCRIPTION:El próximo 1 de julio a las 13:30hs se impartirá el primer webinario conjunto en español de la United European Gastroenterology (UEG) y la Asociación Española de Gastroenterología (AEG)\, con el objetivo de actualizar en 1 hora tus conocimientos en pancreatitis aguda. Participarán en el webinario Edson Guzmán (Perú)\, Belén Martínez (España) y Enrique de-Madaria (España). \nEn 3 charlas muy dinámicas de 12 minutos abiertas a vuestras dudas en vivo\, se tratarán los siguientes objetivos docentes: \n\nRepasar la evidencia disponible sobre el tratamiento médico inicial de la pancreatitis aguda\nRevisar las complicaciones biliares de la pancreatitis aguda y su tratamiento endoscópico mediante CPRE\nConocer el manejo endoscópico de las colecciones retroperitoneales sintomáticas en la pancreatitis aguda\n\nSe revisará el manejo médico\, las indicaciones de CPRE y el manejo de las colecciones sintomáticas en 3 charlas de 12 minutos\, abiertas a preguntas en vivo. Una experiencia docente única que aspira a acercar a los gastroenterólogos latinoamericanos y europeos. \nPonentes: \n\nEnrique de-Madaria\nEdson Guzmán Calderón\nBelén Martínez Moreno\n\nModerador: \n\nIgnacio Catalán Serra\n\nDirigido a: Médicos de habla hispana que atienden a pacientes con pancreatitis aguda.
URL:https://clubdelpancreas.com.ar/evento/manejo-actual-de-la-pancreatitis-aguda-una-colaboracion-ueg-aeg/
CATEGORIES:Reunión Online
ATTACH;FMTTYPE=image/png:https://clubdelpancreas.com.ar/wp-content/uploads/2021/06/UEG-AEG.png
END:VEVENT
END:VCALENDAR