BEGIN:VCALENDAR
VERSION:2.0
PRODID:-//Club del Páncreas - ECPv6.11.2.1//NONSGML v1.0//EN
CALSCALE:GREGORIAN
METHOD:PUBLISH
X-ORIGINAL-URL:https://clubdelpancreas.com.ar
X-WR-CALDESC:Eventos para Club del Páncreas
REFRESH-INTERVAL;VALUE=DURATION:PT1H
X-Robots-Tag:noindex
X-PUBLISHED-TTL:PT1H
BEGIN:VTIMEZONE
TZID:America/Argentina/Buenos_Aires
BEGIN:STANDARD
TZOFFSETFROM:-0300
TZOFFSETTO:-0300
TZNAME:-03
DTSTART:20180101T000000
END:STANDARD
END:VTIMEZONE
BEGIN:VEVENT
DTSTART;TZID=America/Argentina/Buenos_Aires:20190912T083000
DTEND;TZID=America/Argentina/Buenos_Aires:20190912T100000
DTSTAMP:20260424T164353
CREATED:20190510T192555Z
LAST-MODIFIED:20190510T193023Z
UID:10000145-1568277000-1568282400@clubdelpancreas.com.ar
SUMMARY:Simposio del Club del Páncreas 2019
DESCRIPTION:«Congreso Argentino de Gastroenterología y Endoscopía Digestiva – GASTRO 2019»\n«Simposio del Club del Páncreas 2019»\nJueves 12 de septiembre de 2019\n 
URL:https://clubdelpancreas.com.ar/evento/simposio-del-club-del-pancreas-2019/
LOCATION:Hotel InterContinental\, Blvd Perez Cuesta esq. Acceso Este\, Mendoza\, M5521AAR\, Argentina
CATEGORIES:Simposio Club del Páncreas
ATTACH;FMTTYPE=image/jpeg:https://clubdelpancreas.com.ar/wp-content/uploads/2019/05/gastro2019-.jpg
ORGANIZER;CN="Club del P%C3%A1ncreas":MAILTO:info@clubdelpancreas.com.ar
END:VEVENT
BEGIN:VEVENT
DTSTART;TZID=America/Argentina/Buenos_Aires:20190910T080000
DTEND;TZID=America/Argentina/Buenos_Aires:20190910T180000
DTSTAMP:20260424T164353
CREATED:20190510T185139Z
LAST-MODIFIED:20190801T164144Z
UID:10000147-1568102400-1568138400@clubdelpancreas.com.ar
SUMMARY:Páncreas Day 2019
DESCRIPTION:REUNIÓN NACIONAL DEL CLUB DEL PÁNCREAS DE LA REPÚBLICA ARGENTINA\nMÓDULOS:\nCáncer de Páncreas ǀ Pancreatitis aguda\nINVITADO EXTRANJERO:\nDr. Enrique Domínguez Muñoz\nJefe del Servicio de Aparato Digestivo\, Hospital Clínico\nUniversitario de Santiago de Compostela\, España.\nCUPOS LIMITADOS\nEnviar casos clínicos a info@clubdelpancreas.com.ar antes del 3 de Septiembre
URL:https://clubdelpancreas.com.ar/evento/pancreas-day-2019/
LOCATION:Hotel InterContinental\, Blvd Perez Cuesta esq. Acceso Este\, Mendoza\, M5521AAR\, Argentina
CATEGORIES:Pancreas Day
ATTACH;FMTTYPE=image/jpeg:https://clubdelpancreas.com.ar/wp-content/uploads/2019/05/pancreas-day-2019_1.jpg
ORGANIZER;CN="Club del P%C3%A1ncreas":MAILTO:info@clubdelpancreas.com.ar
END:VEVENT
BEGIN:VEVENT
DTSTART;TZID=America/Argentina/Buenos_Aires:20190525T090000
DTEND;TZID=America/Argentina/Buenos_Aires:20190525T102000
DTSTAMP:20260424T164353
CREATED:20190510T191052Z
LAST-MODIFIED:20190510T192114Z
UID:10000146-1558774800-1558779600@clubdelpancreas.com.ar
SUMMARY:Sesión Patología Bilio Pancreática en Cirugía Bariátrica
DESCRIPTION:«XII Congreso Internacional de Cirugía Bariátrica y Metabólica»\n«Sesión Patología Bilio Pancreática en Cirugía Bariátrica»\nSábado 25 de mayo de 2019 – 9:00 a 10:20 hs.\nHotel InterContinental – Mendoza\nSALÓN CERROS 2
URL:https://clubdelpancreas.com.ar/evento/sesion-patologia-bilio-pancreatica-en-cirugia-bariatrica/
LOCATION:Hotel InterContinental\, Blvd Perez Cuesta esq. Acceso Este\, Mendoza\, M5521AAR\, Argentina
CATEGORIES:Sesión
ATTACH;FMTTYPE=image/png:https://clubdelpancreas.com.ar/wp-content/uploads/2019/05/bariatrica-1.png
ORGANIZER;CN="Club del P%C3%A1ncreas":MAILTO:info@clubdelpancreas.com.ar
END:VEVENT
BEGIN:VEVENT
DTSTART;TZID=America/Argentina/Buenos_Aires:20180803T090000
DTEND;TZID=America/Argentina/Buenos_Aires:20180803T160000
DTSTAMP:20260424T164353
CREATED:20180726T152059Z
LAST-MODIFIED:20180726T152059Z
UID:10000160-1533286800-1533312000@clubdelpancreas.com.ar
SUMMARY:Jornada de Patología Pancreática
DESCRIPTION:
URL:https://clubdelpancreas.com.ar/evento/jornada-de-patologia-pancreatica/
LOCATION:Tower Hotel Neuquén\, Belgrano 175\, Neuquén\, Neuquén\, Argentina
CATEGORIES:Jornada
ATTACH;FMTTYPE=image/jpeg:https://clubdelpancreas.com.ar/wp-content/uploads/2018/07/neuquen.jpg
ORGANIZER;CN="Club del P%C3%A1ncreas":MAILTO:info@clubdelpancreas.com.ar
GEO:-38.950649;-68.0616817
X-APPLE-STRUCTURED-LOCATION;VALUE=URI;X-ADDRESS=Tower Hotel Neuquén Belgrano 175 Neuquén Neuquén Argentina;X-APPLE-RADIUS=500;X-TITLE=Belgrano 175:geo:-68.0616817,-38.950649
END:VEVENT
BEGIN:VEVENT
DTSTART;TZID=America/Argentina/Buenos_Aires:20180629T080000
DTEND;TZID=America/Argentina/Buenos_Aires:20180629T180000
DTSTAMP:20260424T164353
CREATED:20180622T201831Z
LAST-MODIFIED:20180629T181129Z
UID:10000156-1530259200-1530295200@clubdelpancreas.com.ar
SUMMARY:Pancreas Day 2018
DESCRIPTION:
URL:https://clubdelpancreas.com.ar/evento/pancreas-day-2018/
LOCATION:Recoleta Gran Hotel\, Av. Gral. Las Heras 1745\, CABA\, Buenos Aires\, C1018AAB\, Argentina
CATEGORIES:Pancreas Day
ATTACH;FMTTYPE=image/jpeg:https://clubdelpancreas.com.ar/wp-content/uploads/2018/06/Páncreas-Day-2018.jpg
ORGANIZER;CN="Club del P%C3%A1ncreas":MAILTO:info@clubdelpancreas.com.ar
GEO:-34.5922183;-58.3911399
X-APPLE-STRUCTURED-LOCATION;VALUE=URI;X-ADDRESS=Recoleta Gran Hotel Av. Gral. Las Heras 1745 CABA Buenos Aires C1018AAB Argentina;X-APPLE-RADIUS=500;X-TITLE=Av. Gral. Las Heras 1745:geo:-58.3911399,-34.5922183
END:VEVENT
END:VCALENDAR