BEGIN:VCALENDAR
VERSION:2.0
PRODID:-//Club del Páncreas - ECPv6.11.2.1//NONSGML v1.0//EN
CALSCALE:GREGORIAN
METHOD:PUBLISH
X-WR-CALNAME:Club del Páncreas
X-ORIGINAL-URL:https://clubdelpancreas.com.ar
X-WR-CALDESC:Eventos para Club del Páncreas
REFRESH-INTERVAL;VALUE=DURATION:PT1H
X-Robots-Tag:noindex
X-PUBLISHED-TTL:PT1H
BEGIN:VTIMEZONE
TZID:America/Argentina/Buenos_Aires
BEGIN:STANDARD
TZOFFSETFROM:-0300
TZOFFSETTO:-0300
TZNAME:-03
DTSTART:20190101T000000
END:STANDARD
END:VTIMEZONE
BEGIN:VEVENT
DTSTART;TZID=America/Argentina/Buenos_Aires:20190628T080000
DTEND;TZID=America/Argentina/Buenos_Aires:20190628T170000
DTSTAMP:20260424T193814
CREATED:20190516T172947Z
LAST-MODIFIED:20190516T173650Z
UID:10000144-1561708800-1561741200@clubdelpancreas.com.ar
SUMMARY:Patología Pancreática Inflamatoria Vs. Tumoral: Enfoque multidisciplinario
DESCRIPTION:«Patología Pancreática Inflamatoria Vs. Tumoral: Enfoque multidisciplinario»\nINICIO: Junio 2019
URL:https://clubdelpancreas.com.ar/evento/patologia-pancreatica-inflamatoria-vs-tumoral-enfoque-multidisciplinario/2019-06-28/
CATEGORIES:Eventos
ATTACH;FMTTYPE=image/jpeg:https://clubdelpancreas.com.ar/wp-content/uploads/2019/05/divi.jpg
ORGANIZER;CN="Diagn%C3%B3stico por Im%C3%A1genes Virtual":MAILTO:inscripciones@divi.com.ar
END:VEVENT
END:VCALENDAR