BEGIN:VCALENDAR
VERSION:2.0
PRODID:-//Club del Páncreas - ECPv6.11.2.1//NONSGML v1.0//EN
CALSCALE:GREGORIAN
METHOD:PUBLISH
X-WR-CALNAME:Club del Páncreas
X-ORIGINAL-URL:https://clubdelpancreas.com.ar
X-WR-CALDESC:Eventos para Club del Páncreas
REFRESH-INTERVAL;VALUE=DURATION:PT1H
X-Robots-Tag:noindex
X-PUBLISHED-TTL:PT1H
BEGIN:VTIMEZONE
TZID:America/Argentina/Buenos_Aires
BEGIN:STANDARD
TZOFFSETFROM:-0300
TZOFFSETTO:-0300
TZNAME:-03
DTSTART:20200101T000000
END:STANDARD
END:VTIMEZONE
BEGIN:VEVENT
DTSTART;VALUE=DATE:20200805
DTEND;VALUE=DATE:20200806
DTSTAMP:20260424T212112
CREATED:20200427T204258Z
LAST-MODIFIED:20200427T204447Z
UID:10000043-1596585600-1596671999@clubdelpancreas.com.ar
SUMMARY:Curso Online Internacional de Ultrasonido Endoscópico (USE) - Diagnóstico y Terapéutico 2020
DESCRIPTION:Modalidad: Online.\nPeríodo: una clase semanal durante 4 meses.\nFecha de inicio: 22 de abril\nCosto: GRATIS\nDirector: Dr. Federico H. Marcaccio\nDirigido a: médicos endoscopistas\, asistentes\, clínicos\, especialistas en diagnóstico por imágenes\, y gastroenterólogos.
URL:https://clubdelpancreas.com.ar/evento/curso-online-internacional-de-ultrasonido-endoscopico-use-diagnostico-y-terapeutico-2020/2020-08-05/
CATEGORIES:Curso
ATTACH;FMTTYPE=image/png:https://clubdelpancreas.com.ar/wp-content/uploads/2020/04/Curso-Endiba-2020.png
END:VEVENT
END:VCALENDAR