BEGIN:VCALENDAR
VERSION:2.0
PRODID:-//Club del Páncreas - ECPv6.11.2.1//NONSGML v1.0//EN
CALSCALE:GREGORIAN
METHOD:PUBLISH
X-ORIGINAL-URL:https://clubdelpancreas.com.ar
X-WR-CALDESC:Eventos para Club del Páncreas
REFRESH-INTERVAL;VALUE=DURATION:PT1H
X-Robots-Tag:noindex
X-PUBLISHED-TTL:PT1H
BEGIN:VTIMEZONE
TZID:America/Argentina/Buenos_Aires
BEGIN:STANDARD
TZOFFSETFROM:-0300
TZOFFSETTO:-0300
TZNAME:-03
DTSTART:20220101T000000
END:STANDARD
END:VTIMEZONE
BEGIN:VEVENT
DTSTART;TZID=America/Argentina/Buenos_Aires:20220909T090000
DTEND;TZID=America/Argentina/Buenos_Aires:20220909T160000
DTSTAMP:20260424T181240
CREATED:20220831T142530Z
LAST-MODIFIED:20220831T180719Z
UID:10000134-1662714000-1662739200@clubdelpancreas.com.ar
SUMMARY:III Curso Internacional Multidiciplinario de Enfermedades Pancreáticas
DESCRIPTION:PRESENCIAL\nBUENOS AIRES\nPaseo La Plaza – Av. Corrientes 1660 – CABA\nSALA PABLO PICASSO\n8 y 9 de Septiembre\n  \nINVITADOS INTERNACIONALES: \n\nDr. Matthias Löhr – Suecia\nDr. Horacio Asbun – EEUU\nDr. Massimo Falconi – Italia\nDr. Isaac Raijman – EEUU
URL:https://clubdelpancreas.com.ar/evento/iii-curso-internacional-multidiciplinario-de-enfermedades-pancreaticas/2022-09-09/
LOCATION:Paseo La Plaza\, Av. Corrientes 1660\, CABA
CATEGORIES:Curso
ATTACH;FMTTYPE=image/jpeg:https://clubdelpancreas.com.ar/wp-content/uploads/2022/08/SLIDER2-1.jpg
END:VEVENT
END:VCALENDAR