BEGIN:VCALENDAR
VERSION:2.0
PRODID:-//Club del Páncreas - ECPv6.11.2.1//NONSGML v1.0//EN
CALSCALE:GREGORIAN
METHOD:PUBLISH
X-WR-CALNAME:Club del Páncreas
X-ORIGINAL-URL:https://clubdelpancreas.com.ar
X-WR-CALDESC:Eventos para Club del Páncreas
REFRESH-INTERVAL;VALUE=DURATION:PT1H
X-Robots-Tag:noindex
X-PUBLISHED-TTL:PT1H
BEGIN:VTIMEZONE
TZID:America/Argentina/Buenos_Aires
BEGIN:STANDARD
TZOFFSETFROM:-0300
TZOFFSETTO:-0300
TZNAME:-03
DTSTART:20210101T000000
END:STANDARD
END:VTIMEZONE
BEGIN:VEVENT
DTSTART;TZID=America/Argentina/Buenos_Aires:20210624T193000
DTEND;TZID=America/Argentina/Buenos_Aires:20210624T210000
DTSTAMP:20260424T223501
CREATED:20210617T010431Z
LAST-MODIFIED:20210617T010431Z
UID:10000110-1624563000-1624568400@clubdelpancreas.com.ar
SUMMARY:Jornada de Pancreatitis Aguda (Módulo I HPB)
DESCRIPTION:Juves 24 de Junio del 2021 – 19:30 a 21:00 hs\nActividad por Zoom\n\n19.30: Tratamiento inicial de la Pancreatitis Aguda.\nDr. Oscar Mazza\nHospital Italiano de Buenos Aires\n19.50: Manejo de las complicaciones locales de la Pancreatitis Aguda. Estado actual\nDr. Gustavo Kohan.\nHospital Cosme Argerich\, Buenos Aires\n20.10: Presentacion de Casos Clínicos\nModerardor: Dr. Lucas Granero. Hospital San Roque. Sanatorio Allende\, Córdoba.\nCaso 1: Dr. Pablo Capitanich. Hospital Alemán\, Buenos Aires.\nCaso 2: Dr. Javier Crisci. Hospital Sanatorio Parque\, Rosario.\nCaso 3: Dr. Matías Rodriguez. Residente de Cirugía General HIRS\, Bahía Blanca\n\n\n\n\n\n 
URL:https://clubdelpancreas.com.ar/evento/jornada-de-pancreatitis-aguda-modulo-i-hpb/
CATEGORIES:Curso Online
ATTACH;FMTTYPE=image/png:https://clubdelpancreas.com.ar/wp-content/uploads/2021/06/Evento-HPB.png
END:VEVENT
END:VCALENDAR